BEGIN:VCALENDAR
VERSION:2.0
PRODID:-//Kalibrate Global - ECPv6.15.18//NONSGML v1.0//EN
CALSCALE:GREGORIAN
METHOD:PUBLISH
X-ORIGINAL-URL:https://kalibrate.com
X-WR-CALDESC:Events for Kalibrate Global
REFRESH-INTERVAL;VALUE=DURATION:PT1H
X-Robots-Tag:noindex
X-PUBLISHED-TTL:PT1H
BEGIN:VTIMEZONE
TZID:Europe/London
BEGIN:DAYLIGHT
TZOFFSETFROM:+0000
TZOFFSETTO:+0100
TZNAME:BST
DTSTART:20250330T010000
END:DAYLIGHT
BEGIN:STANDARD
TZOFFSETFROM:+0100
TZOFFSETTO:+0000
TZNAME:GMT
DTSTART:20251026T010000
END:STANDARD
BEGIN:DAYLIGHT
TZOFFSETFROM:+0000
TZOFFSETTO:+0100
TZNAME:BST
DTSTART:20260329T010000
END:DAYLIGHT
BEGIN:STANDARD
TZOFFSETFROM:+0100
TZOFFSETTO:+0000
TZNAME:GMT
DTSTART:20261025T010000
END:STANDARD
BEGIN:DAYLIGHT
TZOFFSETFROM:+0000
TZOFFSETTO:+0100
TZNAME:BST
DTSTART:20270328T010000
END:DAYLIGHT
BEGIN:STANDARD
TZOFFSETFROM:+0100
TZOFFSETTO:+0000
TZNAME:GMT
DTSTART:20271031T010000
END:STANDARD
END:VTIMEZONE
BEGIN:VTIMEZONE
TZID:America/Chicago
BEGIN:DAYLIGHT
TZOFFSETFROM:-0600
TZOFFSETTO:-0500
TZNAME:CDT
DTSTART:20250309T080000
END:DAYLIGHT
BEGIN:STANDARD
TZOFFSETFROM:-0500
TZOFFSETTO:-0600
TZNAME:CST
DTSTART:20251102T070000
END:STANDARD
BEGIN:DAYLIGHT
TZOFFSETFROM:-0600
TZOFFSETTO:-0500
TZNAME:CDT
DTSTART:20260308T080000
END:DAYLIGHT
BEGIN:STANDARD
TZOFFSETFROM:-0500
TZOFFSETTO:-0600
TZNAME:CST
DTSTART:20261101T070000
END:STANDARD
BEGIN:DAYLIGHT
TZOFFSETFROM:-0600
TZOFFSETTO:-0500
TZNAME:CDT
DTSTART:20270314T080000
END:DAYLIGHT
BEGIN:STANDARD
TZOFFSETFROM:-0500
TZOFFSETTO:-0600
TZNAME:CST
DTSTART:20271107T070000
END:STANDARD
END:VTIMEZONE
BEGIN:VEVENT
DTSTART;VALUE=DATE:20260304
DTEND;VALUE=DATE:20260306
DTSTAMP:20260422T162849
CREATED:20260114T220246Z
LAST-MODIFIED:20260114T225719Z
UID:18979-1772582400-1772755199@kalibrate.com
SUMMARY:SE Petro
DESCRIPTION:Kalibrate is pleased to announce that we will be attending the SE Petro 2026 Expo\, one of the industry’s leading events for downstream petroleum and convenience retail professionals. \nIn addition to exhibiting\, Kalibrate will be presenting at two expert-led seminars\, where our team will share insights on data-driven pricing\, analytics\, and strategies to help fuel and convenience retailers improve performance in a rapidly evolving market. \nSeminar 1 – Meeting Room 202- 8-8:30am – Network Strategy in Transition: Optimizing Site Portfolios for Fuel\, Convenience\, and Electrification \nSeminar 2 – Meeting Room 202 – 8:45-9:15am – From ChatGPT to Custom AI: How Large Language Models are Powering Smarter\, Faster Decisions in Fuel Retail \nWe look forward to connecting with industry peers\, discussing current challenges\, and showcasing how Kalibrate’s solutions help businesses make smarter\, more profitable decisions. Be sure to join our sessions and visit us at the expo.
URL:https://kalibrate.com/event/se-petro/
LOCATION:Myrtle Beach Convention Center\, Myrtle Beach\, South Carolina
ATTACH;FMTTYPE=image/png:https://kalibrate.com/wp-content/uploads/2026/01/Event-Client-story-images-785-x-785.png
END:VEVENT
BEGIN:VEVENT
DTSTART;VALUE=DATE:20260310
DTEND;VALUE=DATE:20260313
DTSTAMP:20260422T162849
CREATED:20260212T190618Z
LAST-MODIFIED:20260212T190618Z
UID:19266-1773100800-1773359999@kalibrate.com
SUMMARY:NACS Shanghai
DESCRIPTION:Kalibrate is proud to attend NACS Shanghai\, where convenience retail leaders from across Asia Pacific and around the world come together to explore what’s next for the industry. As digitization\, automation\, AI\, and evolving consumer behaviors reshape the fuel and convenience landscape\, Kalibrate empowers retailers with data-driven insights to make smarter\, more profitable decisions. From in-depth site analysis and network planning to AI-powered fuel pricing\, competitor data processing\, and real-time price execution\, our solutions help retailers validate investments\, optimize strategies\, and drive measurable profitability. We look forward to connecting with CEOs\, retail operations leaders\, and marketing executives to share how site simulations\, scenario testing\, and advanced analytics can maximize market share and position convenience businesses for long-term success in a rapidly changing market.
URL:https://kalibrate.com/event/nacs-shanghai/
LOCATION:Mandarin Oriental Pudong
ATTACH;FMTTYPE=image/jpeg:https://kalibrate.com/wp-content/uploads/2026/02/Screenshot_12-2-2026_14526_cdn.britannica.com_.jpeg
END:VEVENT
BEGIN:VEVENT
DTSTART;VALUE=DATE:20260324
DTEND;VALUE=DATE:20260328
DTSTAMP:20260422T162849
CREATED:20260120T151828Z
LAST-MODIFIED:20260311T125824Z
UID:19117-1774310400-1774655999@kalibrate.com
SUMMARY:Multi-Unit Franchising Conference
DESCRIPTION:Leading franchise owners\, operators\, and industry partners are coming together to explore the strategies shaping the future of multi-unit growth. As a trusted partner to franchise brands worldwide\, Kalibrate will be on site at MUFC to connect with attendees and share insights on data-driven decision-making\, pricing strategy\, and location performance. \nVisit Kalibrate at Booth #2151 to learn how we help multi-unit operators optimize profitability\, improve operational consistency\, and make smarter\, faster decisions across their networks. Whether you’re expanding your footprint or refining existing locations\, we look forward to meaningful conversations and collaboration throughout the conference.
URL:https://kalibrate.com/event/multi-unit-franchising-conference/
LOCATION:Caesars Forum Conference Center\, Las Vegas\, Nevada
ATTACH;FMTTYPE=image/png:https://kalibrate.com/wp-content/uploads/2026/01/vegas-ceasar.png
END:VEVENT
BEGIN:VEVENT
DTSTART;VALUE=DATE:20260330
DTEND;VALUE=DATE:20260401
DTSTAMP:20260422T162849
CREATED:20260120T153001Z
LAST-MODIFIED:20260311T171612Z
UID:19123-1774828800-1775001599@kalibrate.com
SUMMARY:ICSC@Carolinas
DESCRIPTION:Leading franchise owners\, operators\, and industry partners are coming together to explore the strategies shaping the future of multi-unit growth. As a trusted partner to franchise brands worldwide\, Kalibrate will be on site at MUFC to connect with attendees and share insights on data-driven decision-making\, pricing strategy\, and location performance. \nVisit Kalibrate at Booth #2151 to learn how we help multi-unit operators optimize profitability\, improve operational consistency\, and make smarter\, faster decisions across their networks. Whether you’re expanding your footprint or refining existing locations\, we look forward to meaningful conversations and collaboration throughout the conference.
URL:https://kalibrate.com/event/icsc-at-carolinas/
LOCATION:Charlotte Convention Center\, Charlotte\, North Carolina
ATTACH;FMTTYPE=image/png:https://kalibrate.com/wp-content/uploads/2026/01/charlotte-convention.png
END:VEVENT
END:VCALENDAR