BEGIN:VCALENDAR
VERSION:2.0
PRODID:-//Kalibrate Global - ECPv6.15.18//NONSGML v1.0//EN
CALSCALE:GREGORIAN
METHOD:PUBLISH
X-WR-CALNAME:Kalibrate Global
X-ORIGINAL-URL:https://kalibrate.com
X-WR-CALDESC:Events for Kalibrate Global
REFRESH-INTERVAL;VALUE=DURATION:PT1H
X-Robots-Tag:noindex
X-PUBLISHED-TTL:PT1H
BEGIN:VTIMEZONE
TZID:America/New_York
BEGIN:DAYLIGHT
TZOFFSETFROM:-0500
TZOFFSETTO:-0400
TZNAME:EDT
DTSTART:20250309T070000
END:DAYLIGHT
BEGIN:STANDARD
TZOFFSETFROM:-0400
TZOFFSETTO:-0500
TZNAME:EST
DTSTART:20251102T060000
END:STANDARD
BEGIN:DAYLIGHT
TZOFFSETFROM:-0500
TZOFFSETTO:-0400
TZNAME:EDT
DTSTART:20260308T070000
END:DAYLIGHT
BEGIN:STANDARD
TZOFFSETFROM:-0400
TZOFFSETTO:-0500
TZNAME:EST
DTSTART:20261101T060000
END:STANDARD
BEGIN:DAYLIGHT
TZOFFSETFROM:-0500
TZOFFSETTO:-0400
TZNAME:EDT
DTSTART:20270314T070000
END:DAYLIGHT
BEGIN:STANDARD
TZOFFSETFROM:-0400
TZOFFSETTO:-0500
TZNAME:EST
DTSTART:20271107T060000
END:STANDARD
END:VTIMEZONE
BEGIN:VTIMEZONE
TZID:America/Chicago
BEGIN:DAYLIGHT
TZOFFSETFROM:-0600
TZOFFSETTO:-0500
TZNAME:CDT
DTSTART:20250309T080000
END:DAYLIGHT
BEGIN:STANDARD
TZOFFSETFROM:-0500
TZOFFSETTO:-0600
TZNAME:CST
DTSTART:20251102T070000
END:STANDARD
BEGIN:DAYLIGHT
TZOFFSETFROM:-0600
TZOFFSETTO:-0500
TZNAME:CDT
DTSTART:20260308T080000
END:DAYLIGHT
BEGIN:STANDARD
TZOFFSETFROM:-0500
TZOFFSETTO:-0600
TZNAME:CST
DTSTART:20261101T070000
END:STANDARD
BEGIN:DAYLIGHT
TZOFFSETFROM:-0600
TZOFFSETTO:-0500
TZNAME:CDT
DTSTART:20270314T080000
END:DAYLIGHT
BEGIN:STANDARD
TZOFFSETFROM:-0500
TZOFFSETTO:-0600
TZNAME:CST
DTSTART:20271107T070000
END:STANDARD
END:VTIMEZONE
BEGIN:VTIMEZONE
TZID:Europe/London
BEGIN:DAYLIGHT
TZOFFSETFROM:+0000
TZOFFSETTO:+0100
TZNAME:BST
DTSTART:20250330T010000
END:DAYLIGHT
BEGIN:STANDARD
TZOFFSETFROM:+0100
TZOFFSETTO:+0000
TZNAME:GMT
DTSTART:20251026T010000
END:STANDARD
BEGIN:DAYLIGHT
TZOFFSETFROM:+0000
TZOFFSETTO:+0100
TZNAME:BST
DTSTART:20260329T010000
END:DAYLIGHT
BEGIN:STANDARD
TZOFFSETFROM:+0100
TZOFFSETTO:+0000
TZNAME:GMT
DTSTART:20261025T010000
END:STANDARD
BEGIN:DAYLIGHT
TZOFFSETFROM:+0000
TZOFFSETTO:+0100
TZNAME:BST
DTSTART:20270328T010000
END:DAYLIGHT
BEGIN:STANDARD
TZOFFSETFROM:+0100
TZOFFSETTO:+0000
TZNAME:GMT
DTSTART:20271031T010000
END:STANDARD
END:VTIMEZONE
BEGIN:VEVENT
DTSTART;TZID=America/New_York:20260225T140000
DTEND;TZID=America/New_York:20260225T140000
DTSTAMP:20260423T035304
CREATED:20260211T160227Z
LAST-MODIFIED:20260212T143612Z
UID:19237-1772028000-1772028000@kalibrate.com
SUMMARY:Webinar: How Kroger uses location intelligence beyond the real estate team
DESCRIPTION:February 25th @ 2:00 pm\nLocation intelligence is often owned by real estate teams\, but its value extends far beyond site selection. \nIn this 1:1 conversation\, hear Kroger discuss how location and customer insights are shared across departments to support an aligned growth strategy. By working from a single view of the customer\, teams across the organization – from marketing to finance to leadership – can plan more effectively\, collaborate more easily\, and stay focused on the same growth goals. \nJoin the discussion to hear practical examples of how location intelligence can be used as a shared resource\, not just a real estate tool. \nTakeaways \n\nHow Kroger uses location intelligence as a shared source of truth across teams\nWhy making customer and location data accessible improves alignment and planning\nWays non–real estate teams can use location insights to support growth strategy\n\nRegister today: How Kroger uses location intelligence beyond the real estate team | Kalibrate \n﻿﻿
URL:https://kalibrate.com/event/webinar-how-kroger-uses-location-intelligence-beyond-the-real-estate-team/
LOCATION:Online at Livestorm
ATTACH;FMTTYPE=image/jpeg:https://kalibrate.com/wp-content/uploads/2026/02/Screenshot_12-2-2026_92955_i.abcnewsfe.com_.jpeg
END:VEVENT
BEGIN:VEVENT
DTSTART;VALUE=DATE:20260224
DTEND;VALUE=DATE:20260225
DTSTAMP:20260423T035304
CREATED:20260212T171504Z
LAST-MODIFIED:20260217T143928Z
UID:19261-1771891200-1771977599@kalibrate.com
SUMMARY:Forecourt Trader Summit
DESCRIPTION:Kalibrate is heading to the Forecourt Trader Summit! 🚗⛽ \nWith 2026’s theme\, Roadway to Profit\, this must-attend event brings together the latest market insights\, exclusive consumer research from Lumina Intelligence\, and expert perspectives to help forecourt operators not just survive—but thrive. \nAt Kalibrate\, we help fuel and convenience retailers turn insight into action. From in-depth location analysis and site simulations to AI-powered pricing automation\, our smart platform enables you to validate investment decisions\, optimize pricing\, and understand true volume and cannibalization impact across your network. \nIf you’re attending\, let’s connect to explore how data-driven strategy can help you maximize market share and outperform the competition. See you there!
URL:https://kalibrate.com/event/forecourt-trader-summit/
LOCATION:The Belfry in Sutton Coldfield
ATTACH;FMTTYPE=image/jpeg:https://kalibrate.com/wp-content/uploads/2026/02/forecourt.jpg
END:VEVENT
BEGIN:VEVENT
DTSTART;VALUE=DATE:20260217
DTEND;VALUE=DATE:20260220
DTSTAMP:20260423T035304
CREATED:20251205T165832Z
LAST-MODIFIED:20260114T212649Z
UID:2396-1771286400-1771545599@kalibrate.com
SUMMARY:WPMA Expo
DESCRIPTION:Kalibrate is excited to return to the WPMA Annual National Convention\, taking place February 17–19 at the MGM Grand Resort in Las Vegas. \nVisit us at booth #M648 to meet Chip Rodgers and Rianne Nelson and discover how Kalibrate is helping fuel retailers overcome today’s most pressing infrastructure challenges. \nIn a market where outdated systems\, disconnected data\, and operational bottlenecks slow down decision-making\, Kalibrate equips operators with the tools to take control. \nThis year\, we’ll be showcasing our latest innovations and sharing real examples of how marketers have modernized their operational infrastructure with Kalibrate. From replacing manual pricing processes to unifying market intelligence and site performance data into a single source of truth. These improvements don’t just streamline operations; they create sustained competitive advantage. \nWhether you’re aiming to modernize your internal systems\, improve demand forecasting\, strengthen site planning\, or empower your teams with clearer decision pathways\, Kalibrate is here to help. \nStop by our booth to connect with us\, preview the latest enhancements to the Kalibrate platforms\, and see how we can partner with you to build a more resilient\, data-driven future for your business. \nWe look forward to seeing you in Las Vegas!
URL:https://kalibrate.com/event/wpma-expo-2026/
LOCATION:MGM Grand Resort\, Las Vegas\, Nevada\, United States
ATTACH;FMTTYPE=image/jpeg:https://kalibrate.com/wp-content/uploads/2025/12/Kalibrate-attend-WPMA-expo-2026.jpg
END:VEVENT
BEGIN:VEVENT
DTSTART;VALUE=DATE:20260217
DTEND;VALUE=DATE:20260219
DTSTAMP:20260423T035304
CREATED:20260114T232514Z
LAST-MODIFIED:20260120T153041Z
UID:19007-1771286400-1771459199@kalibrate.com
SUMMARY:ICSC@Red River
DESCRIPTION:Our team will be onsite at ICSC Red River this February 17th-18th\, 2026\, where retail real estate and placemaking leaders come together to explore growth opportunities across the region. Jill\, Courtney\, and Stephen will connect with industry professionals and discuss how data-driven insights can support smarter location planning\, market analysis\, and investment decisions. \nIf you’re attending ICSC Red River\, we look forward to meeting with you to discuss how Kalibrate helps businesses identify opportunities\, mitigate risk\, and make confident decisions in an increasingly competitive retail landscape.
URL:https://kalibrate.com/event/icsc-at-red-river/
LOCATION:Henry B. González Convention Center\, San Antonio\, Texas
ATTACH;FMTTYPE=image/png:https://kalibrate.com/wp-content/uploads/2026/01/Event-Client-story-images-785-x-785-1.png
END:VEVENT
BEGIN:VEVENT
DTSTART;VALUE=DATE:20260202
DTEND;VALUE=DATE:20260205
DTSTAMP:20260423T035304
CREATED:20251121T180929Z
LAST-MODIFIED:20260115T212239Z
UID:1955-1769990400-1770249599@kalibrate.com
SUMMARY:ReFuel MENA
DESCRIPTION:Kalibrate is delighted to attend ReFuel Forum MENA 2026\, taking place February 2-3 in Dubai. \nThis event brings together senior executives from the Middle East and North African fuel retail industry to explore strategies for growth and innovation. As a trusted partner in network planning\, Kalibrate empowers fuel retailers to make informed decisions about site acquisition\, expansion\, and investment optimization. \nAlfred Moshi will be on hand to demonstrate how Kalibrate’s innovative analytics software and strategic insights can help you select the right networks to acquire\, identify prime locations for new developments\, and maximize returns from your existing sites. \nWith decades of experience in network planning\, we’re here to provide the expertise and tools you need to build a resilient\, high-performing network in a competitive market. We look forward to discussing your growth ambitions in Dubai!
URL:https://kalibrate.com/event/refuel-mena-2026/
LOCATION:Hyatt Regency Dubai Creek Heights\, Dubai\, United Arab Emirates
ATTACH;FMTTYPE=image/jpeg:https://kalibrate.com/wp-content/uploads/2025/11/Kalibrate-attends-ReFuel-MENA-2026.jpg
END:VEVENT
END:VCALENDAR