BEGIN:VCALENDAR
VERSION:2.0
PRODID:-//Kalibrate Global - ECPv6.15.18//NONSGML v1.0//EN
CALSCALE:GREGORIAN
METHOD:PUBLISH
X-ORIGINAL-URL:https://kalibrate.com
X-WR-CALDESC:Events for Kalibrate Global
REFRESH-INTERVAL;VALUE=DURATION:PT1H
X-Robots-Tag:noindex
X-PUBLISHED-TTL:PT1H
BEGIN:VTIMEZONE
TZID:America/Chicago
BEGIN:DAYLIGHT
TZOFFSETFROM:-0600
TZOFFSETTO:-0500
TZNAME:CDT
DTSTART:20250309T080000
END:DAYLIGHT
BEGIN:STANDARD
TZOFFSETFROM:-0500
TZOFFSETTO:-0600
TZNAME:CST
DTSTART:20251102T070000
END:STANDARD
BEGIN:DAYLIGHT
TZOFFSETFROM:-0600
TZOFFSETTO:-0500
TZNAME:CDT
DTSTART:20260308T080000
END:DAYLIGHT
BEGIN:STANDARD
TZOFFSETFROM:-0500
TZOFFSETTO:-0600
TZNAME:CST
DTSTART:20261101T070000
END:STANDARD
BEGIN:DAYLIGHT
TZOFFSETFROM:-0600
TZOFFSETTO:-0500
TZNAME:CDT
DTSTART:20270314T080000
END:DAYLIGHT
BEGIN:STANDARD
TZOFFSETFROM:-0500
TZOFFSETTO:-0600
TZNAME:CST
DTSTART:20271107T070000
END:STANDARD
END:VTIMEZONE
BEGIN:VEVENT
DTSTART;VALUE=DATE:20260526
DTEND;VALUE=DATE:20260529
DTSTAMP:20260422T162200
CREATED:20260407T173810Z
LAST-MODIFIED:20260407T173810Z
UID:19588-1779753600-1780012799@kalibrate.com
SUMMARY:Phillips 66
DESCRIPTION:Join Rianne\, Daniel\, and Riley as Kalibrate heads to Phillips 66 for three days of connection\, collaboration\, and forward-thinking conversation. Set in a dynamic environment that brings together industry leaders\, peers\, and innovators\, the team will be engaging in meaningful discussions that drive progress across the fuel and convenience retail landscape. \nThroughout the event\, they’ll dive into valuable insights and actionable strategies shaping the future of the industry—exploring new ideas\, sharing perspectives\, and uncovering opportunities to better serve customers. From emerging trends to real-world challenges\, this experience will equip them with fresh knowledge and practical tools to help elevate Kalibrate’s offerings and maintain a competitive edge in a rapidly evolving market.
URL:https://kalibrate.com/event/phillips-66/
LOCATION:Aria Resort & Casino
ATTACH;FMTTYPE=image/webp:https://kalibrate.com/wp-content/uploads/2026/04/aria-resort.webp
END:VEVENT
END:VCALENDAR