BEGIN:VCALENDAR
VERSION:2.0
PRODID:-//Kalibrate Global - ECPv6.15.18//NONSGML v1.0//EN
CALSCALE:GREGORIAN
METHOD:PUBLISH
X-WR-CALNAME:Kalibrate Global
X-ORIGINAL-URL:https://kalibrate.com
X-WR-CALDESC:Events for Kalibrate Global
REFRESH-INTERVAL;VALUE=DURATION:PT1H
X-Robots-Tag:noindex
X-PUBLISHED-TTL:PT1H
BEGIN:VTIMEZONE
TZID:America/Chicago
BEGIN:DAYLIGHT
TZOFFSETFROM:-0600
TZOFFSETTO:-0500
TZNAME:CDT
DTSTART:20250309T080000
END:DAYLIGHT
BEGIN:STANDARD
TZOFFSETFROM:-0500
TZOFFSETTO:-0600
TZNAME:CST
DTSTART:20251102T070000
END:STANDARD
BEGIN:DAYLIGHT
TZOFFSETFROM:-0600
TZOFFSETTO:-0500
TZNAME:CDT
DTSTART:20260308T080000
END:DAYLIGHT
BEGIN:STANDARD
TZOFFSETFROM:-0500
TZOFFSETTO:-0600
TZNAME:CST
DTSTART:20261101T070000
END:STANDARD
BEGIN:DAYLIGHT
TZOFFSETFROM:-0600
TZOFFSETTO:-0500
TZNAME:CDT
DTSTART:20270314T080000
END:DAYLIGHT
BEGIN:STANDARD
TZOFFSETFROM:-0500
TZOFFSETTO:-0600
TZNAME:CST
DTSTART:20271107T070000
END:STANDARD
END:VTIMEZONE
BEGIN:VEVENT
DTSTART;TZID=America/Chicago:20260422T130000
DTEND;TZID=America/Chicago:20260422T130000
DTSTAMP:20260422T125639
CREATED:20260318T162754Z
LAST-MODIFIED:20260318T164228Z
UID:19502-1776862800-1776862800@kalibrate.com
SUMMARY:Inside Tractor Supply’s Site Tours: Connecting analytics\, real estate\, and field teams
DESCRIPTION:Learn how Tractor Supply keeps market planning\, real estate\, and field teams aligned throughout the site tour process. In this webinar\, we’ll explore how challenge with market tours led to the creation of the Site Tours feature in Kalibrate Location Intelligence\, built alongside Tractor Supply to support how their teams work. \nFrom office planning to in‑field execution and post‑tour analysis\, you’ll see how a connected approach improves coordination\, saves time in the field\, and maintains alignment from planning to follow‑up \nRegister below
URL:https://kalibrate.com/event/inside-tractor-supplys-site-tours-connecting-analytics-real-estate-and-field-teams/
LOCATION:Online Webinar
ATTACH;FMTTYPE=image/webp:https://kalibrate.com/wp-content/uploads/2026/03/2019-tsc-store-front-social.webp
END:VEVENT
END:VCALENDAR